BEGIN:VCALENDAR
VERSION:2.0
PRODID:-//Mission Klimaziele - ECPv6.15.20//NONSGML v1.0//EN
CALSCALE:GREGORIAN
METHOD:PUBLISH
X-WR-CALNAME:Mission Klimaziele
X-ORIGINAL-URL:https://www.missionklimaziele.at
X-WR-CALDESC:Veranstaltungen für Mission Klimaziele
REFRESH-INTERVAL;VALUE=DURATION:PT1H
X-Robots-Tag:noindex
X-PUBLISHED-TTL:PT1H
BEGIN:VTIMEZONE
TZID:Europe/Berlin
BEGIN:DAYLIGHT
TZOFFSETFROM:+0100
TZOFFSETTO:+0200
TZNAME:CEST
DTSTART:20250330T010000
END:DAYLIGHT
BEGIN:STANDARD
TZOFFSETFROM:+0200
TZOFFSETTO:+0100
TZNAME:CET
DTSTART:20251026T010000
END:STANDARD
BEGIN:DAYLIGHT
TZOFFSETFROM:+0100
TZOFFSETTO:+0200
TZNAME:CEST
DTSTART:20260329T010000
END:DAYLIGHT
BEGIN:STANDARD
TZOFFSETFROM:+0200
TZOFFSETTO:+0100
TZNAME:CET
DTSTART:20261025T010000
END:STANDARD
BEGIN:DAYLIGHT
TZOFFSETFROM:+0100
TZOFFSETTO:+0200
TZNAME:CEST
DTSTART:20270328T010000
END:DAYLIGHT
BEGIN:STANDARD
TZOFFSETFROM:+0200
TZOFFSETTO:+0100
TZNAME:CET
DTSTART:20271031T010000
END:STANDARD
END:VTIMEZONE
BEGIN:VEVENT
DTSTART;TZID=Europe/Berlin:20260508T080000
DTEND;TZID=Europe/Berlin:20260508T170000
DTSTAMP:20260425T154717
CREATED:20260310T144911Z
LAST-MODIFIED:20260310T145858Z
UID:2323-1778227200-1778259600@www.missionklimaziele.at
SUMMARY:FHWN Business Tagung 2026 – Nachhaltigkeit im Wandel?
DESCRIPTION:FHWN Business Tagung 2026 – Nachhaltigkeit im Wandel?				\n				\n					\n				\n		\n					\n		\n				\n				\n									Die Business Tagung ist das jährliche Vernetzungsevent der Fakultät Wirtschaft der FH Wiener Neustadt – offen für Führungskräfte\, Unternehmer*innen\, Expert*innen und Studierende. Die Business Tagung 2026 bietet einen interdisziplinären Denk- und Gestaltungsraum für Analyse\, Reflexion und Inspiration rund um nachhaltiges Wirtschaften. Themenschwerpunkte:  Wie haben sich nachhaltige Praktiken und Rahmenbedingungen in der Wirtschaft entwickelt?Welche Lehren ziehen wir aus aktuellen Umsetzungsproblemen und regulatorischen Anforderungen?Wie gestalten Organisationen den Weg in eine klimaneutrale und nachhaltige Zukunft? 								\n				\n				\n				\n					Programm				\n				\n				\n				\n									➡️ Programm Business Tagung Keynotes Transformation zu einer resilienten und nachhaltigen Wirtschaft – Sigrid Stagl (Wirtschaftsuniversität Wien)Vom Spinner zum Winner – Johannes Gutmann (Sonnentor Kräuterhandelsgesellschaft mbH)Podiumsdiskussion Klimafreundliches Wirtschaften: Wachstumsmotor oder Wettbewerbsnachteil? – Sabine Schellander (Greiner AG)\, Christian Plas (Ernst & Young denkstatt GmbH)\, Anna Pixer (KONTEXT Institut für Klimafragen)Panelvorträge Management von Klimarisiken: Herausforderung zwischen Politik- und Klimawandel – Peter Kraus (Ernst & Young denkstatt GmbH)Strategisches Nachhaltigkeitsmanagement in der Praxis: Risiken und Chancen – Maria Riegler (Forvis Mazars Partners GmbH)Nachhaltigkeit ist Ansichtssache: Die Zielgruppe entscheidet – Alexandra Mossakowski (INTEGRAL Markt- und Meinungsforschungsges.m.b.H)Ist die Nachhaltigkeit in der Immobilienwirtschaft tatsächlich angekommen? Eine kritische Standortbestimmung zu den Herausforderungen – Alexander Scheuch (Rustler Immobilientreuhand GmbH)Den Menschen im Mittelpunkt sehen – HR-Strategien zwischen sozialem Anspruch und wirtschaftlicher Realität – Linda Kreuzer (Universität Wien)\, Lisa Herzlinger (Caritas Socialis)Kontrolle ist gut\, erleben ist besser! Ein kreativer Bottom-up Ansatz zur ESG-Integration – Damir Trtanj\, Christoph Praschl (VERBUND AG)Nachhaltigkeit in KMU: Pflicht oder Chance? – Constanze Stockhammer (Accent Inkubator GmbH)BeanSaver®: Von Kaffeesatz-Abfall zum zirkulären Business-Model mit Open Innovation – Vera Amtmann (BeResilient GmbH)ESG-Daten: Was nutzen sie Unternehmen – und wie managt man sie von Accounting bis Offenlegung? – Timo Goßler (Grant Thornton Austria GmbH)Was bleibt\, wenn wir fertig gebaut haben? – Markus Woratschek\, Sonja Kronberger (IMV Immobilien Management GmbH)Vienna ESG Segment – das Listing Segment für nachhaltige Anleihen – Silvia Stenitzer (Wiener Börse AG)KI & Nachhaltigkeit – geht das? Perspektiven für den zukünftigen Einsatz von KI in Unternehmen – Eric Weisz (Circly GmbH)Industrietransformation im Fokus: Chancen und Voraussetzungen der Baustoffindustrie – Walter Tunka (Rohrdorfer Baustoffe Austria GmbH)								\n				\n				\n				\n					Tickets				\n				\n				\n				\n									In den Ticketpreisen sind die Kosten für die Verpflegung am Event-Tag (Pausensnacks\, Getränke\, Mittagsbuffet) inkludiert. Die Ticketpreise verstehen sich inkl. 20% MwSt. Regulärer Ticketpreis€ 150\,-Partner*innen**€ 100\,-Studierende der FHWN inkl. Verpflegung € 25\,-**Mitarbeiter*innen von Kooperationsunternehmen der FHWN undEvent-Sponsoren der Business Tagung\, externe Referent*innenMehr dazu auf:www.fhwn.ac.at/events/business-tagung  								\n				\n				\n				\n							\n			\n		\n						\n				\n				\n				\n									© Texte und Fotos: www.fhwn.ac.at/events/business-tagung								\n				\n				\n		\n				\n				\n																														\n				\n				\n				\n					\n		\n			8. Mai 2026\n\n	\n\n	  @  \n\n\n8:00\n\n		\n\n\n\n	\n	  -  \n\n17:00\n\n\n\n	\n				\n				\n				\n				\n					\n	\n		\n\n	\n	Zum Kalender hinzufügen	\n		\n	\n\n		\n			\n									\n	Google Kalender\n\n									\n	iCalendar\n\n									\n	Outlook 365\n\n									\n	Outlook Live\n\n							\n		\n\n		\n	\n\n				\n				\n				\n				\n					\n				\n				\n	\n	City Campus\, Schlögelgasse 22-26\, 2700 Wiener Neustadt\n	\n	\n\nSchlögelgasse 22-26\n	\n		\n		Wiener Neustadt\,\n\n	Niederösterreich\n\n	2700\n\n	Austria\n\n\n\n\n	Google Karte anzeigen
URL:https://www.missionklimaziele.at/event/fhwn-business-tagung-2026-nachhaltigkeit-im-wandel/
LOCATION:City Campus\, Schlögelgasse 22-26\, 2700 Wiener Neustadt\, Schlögelgasse 22-26\, Wiener Neustadt\, Niederösterreich\, 2700\, Austria
ATTACH;FMTTYPE=image/webp:https://www.missionklimaziele.at/wp-content/uploads/2026/03/Business-Tagung-26-1-Eventbild_62893534a5615abcd33527642d14a089.webp
END:VEVENT
END:VCALENDAR