BEGIN:VCALENDAR
VERSION:2.0
PRODID:-//Mission Klimaziele - ECPv6.15.20//NONSGML v1.0//EN
CALSCALE:GREGORIAN
METHOD:PUBLISH
X-WR-CALNAME:Mission Klimaziele
X-ORIGINAL-URL:https://www.missionklimaziele.at
X-WR-CALDESC:Veranstaltungen für Mission Klimaziele
REFRESH-INTERVAL;VALUE=DURATION:PT1H
X-Robots-Tag:noindex
X-PUBLISHED-TTL:PT1H
BEGIN:VTIMEZONE
TZID:Europe/Berlin
BEGIN:DAYLIGHT
TZOFFSETFROM:+0100
TZOFFSETTO:+0200
TZNAME:CEST
DTSTART:20250330T010000
END:DAYLIGHT
BEGIN:STANDARD
TZOFFSETFROM:+0200
TZOFFSETTO:+0100
TZNAME:CET
DTSTART:20251026T010000
END:STANDARD
BEGIN:DAYLIGHT
TZOFFSETFROM:+0100
TZOFFSETTO:+0200
TZNAME:CEST
DTSTART:20260329T010000
END:DAYLIGHT
BEGIN:STANDARD
TZOFFSETFROM:+0200
TZOFFSETTO:+0100
TZNAME:CET
DTSTART:20261025T010000
END:STANDARD
BEGIN:DAYLIGHT
TZOFFSETFROM:+0100
TZOFFSETTO:+0200
TZNAME:CEST
DTSTART:20270328T010000
END:DAYLIGHT
BEGIN:STANDARD
TZOFFSETFROM:+0200
TZOFFSETTO:+0100
TZNAME:CET
DTSTART:20271031T010000
END:STANDARD
END:VTIMEZONE
BEGIN:VEVENT
DTSTART;TZID=Europe/Berlin:20260223T163000
DTEND;TZID=Europe/Berlin:20260223T173000
DTSTAMP:20260425T154815
CREATED:20260210T144110Z
LAST-MODIFIED:20260310T144350Z
UID:2317-1771864200-1771867800@www.missionklimaziele.at
SUMMARY:Webinar ESG – Arbeit im Wandel – was bedeutet das konkret für Ihr Unternehmen?
DESCRIPTION:Webinar ESG – Arbeit im Wandel – was bedeutet das konkret für Ihr Unternehmen?				\n				\n					\n				\n		\n					\n		\n				\n				\n									Was bedeutet das konkret für Ihr Unternehmen?Der Arbeitsmarkt befindet sich im Umbruch: Fachkräftemangel\, demografischer Wandel\, neue Wertevorstellungen und steigende Unsicherheit verändern grundlegend\, wie Menschen arbeiten – und was sie von Unternehmen erwarten. Mitarbeitende wählen heute bewusst aus\, wo sie arbeiten möchten. Nicht nur das Gehalt entscheidet\, sondern vor allem Sinn\, Kultur\, Wertschätzung\, Gesundheit und Vertrauen. Für Unternehmen bedeutet das:Die Art\, wie geführt\, zusammengearbeitet und Verantwortung übernommen wird\, wird zunehmend zum entscheidenden Wettbewerbsfaktor. In diesem Webinar erfahren Sie\, warum soziale Nachhaltigkeit („S“ in ESG) und New Work keine Trends\, sondern zentrale Zukunftsthemen für Unternehmen sind – und wie sie im Alltag wirksam umgesetzt werden können. Das erwartet Sie im Webinar Aktuelle Entwicklungen am Arbeitsmarkt & GenerationenwandelWas Fachkräfte heute wirklich erwartenWarum soziale Nachhaltigkeit für Unternehmen an Bedeutung gewinntDer Zusammenhang zwischen Kultur\, Führung & wirtschaftlichem ErfolgWie New Work das „S“ im Arbeitsalltag konkret erlebbar machtPraxisnahe Beispiele\, besonders für kleine und mittlere Unternehmen (KMU)Anmeldung unter:esg@accent.at © Text & Fotos: https://accent.at/esgimfokus https://www.freepik.com 								\n				\n				\n		\n				\n				\n																														\n				\n				\n				\n					\n		\n			23. Februar 2026\n\n	\n\n	  @  \n\n\n16:30\n\n		\n\n\n\n	\n	  -  \n\n17:30\n\n\n\n	\n				\n				\n				\n				\n					\n	\n		\n\n	\n	Zum Kalender hinzufügen	\n		\n	\n\n		\n			\n									\n	Google Kalender\n\n									\n	iCalendar\n\n									\n	Outlook 365\n\n									\n	Outlook Live
URL:https://www.missionklimaziele.at/event/webinar-esg-arbeit-im-wandel-was-bedeutet-das-konkret-fuer-ihr-unternehmen2/
ATTACH;FMTTYPE=image/png:https://www.missionklimaziele.at/wp-content/uploads/2024/09/webinar-esg.png
END:VEVENT
END:VCALENDAR