BEGIN:VCALENDAR
VERSION:2.0
PRODID:-//Mission Klimaziele - ECPv6.15.20//NONSGML v1.0//EN
CALSCALE:GREGORIAN
METHOD:PUBLISH
X-WR-CALNAME:Mission Klimaziele
X-ORIGINAL-URL:https://www.missionklimaziele.at
X-WR-CALDESC:Veranstaltungen für Mission Klimaziele
REFRESH-INTERVAL;VALUE=DURATION:PT1H
X-Robots-Tag:noindex
X-PUBLISHED-TTL:PT1H
BEGIN:VTIMEZONE
TZID:Europe/Berlin
BEGIN:DAYLIGHT
TZOFFSETFROM:+0100
TZOFFSETTO:+0200
TZNAME:CEST
DTSTART:20250330T010000
END:DAYLIGHT
BEGIN:STANDARD
TZOFFSETFROM:+0200
TZOFFSETTO:+0100
TZNAME:CET
DTSTART:20251026T010000
END:STANDARD
BEGIN:DAYLIGHT
TZOFFSETFROM:+0100
TZOFFSETTO:+0200
TZNAME:CEST
DTSTART:20260329T010000
END:DAYLIGHT
BEGIN:STANDARD
TZOFFSETFROM:+0200
TZOFFSETTO:+0100
TZNAME:CET
DTSTART:20261025T010000
END:STANDARD
BEGIN:DAYLIGHT
TZOFFSETFROM:+0100
TZOFFSETTO:+0200
TZNAME:CEST
DTSTART:20270328T010000
END:DAYLIGHT
BEGIN:STANDARD
TZOFFSETFROM:+0200
TZOFFSETTO:+0100
TZNAME:CET
DTSTART:20271031T010000
END:STANDARD
END:VTIMEZONE
BEGIN:VEVENT
DTSTART;TZID=Europe/Berlin:20260316T163000
DTEND;TZID=Europe/Berlin:20260316T173000
DTSTAMP:20260425T154841
CREATED:20260210T140415Z
LAST-MODIFIED:20260310T140622Z
UID:2312-1773678600-1773682200@www.missionklimaziele.at
SUMMARY:Webinar ESG – Soziale Nachhaltigkeit richtig berichten: Was KMU jetzt wissen müssen
DESCRIPTION:Webinar ESG – Soziale Nachhaltigkeit richtig berichten: Was KMU jetzt wissen müssen				\n				\n					\n				\n		\n					\n		\n				\n				\n									Welche sozialen Kennzahlen müssen Unternehmen künftig berichten?Und wie lassen sie sich sinnvoll steuern? Dieses Webinar zeigt kompakt die Anforderungen von CSRD und VSME im Bereich Sozialstandards. Sie erfahren\, wie soziale Wirkungen messbar werden und in Managementprozesse einfließen. Praxisnahe Beispiele und konkrete Umsetzungsschritte unterstützen den direkten Einstieg.  Das Webinar richtet sich an Nachhaltigkeitsverantwortliche\, ESG-Managerinnen sowie Entscheidungsträger in kleinen und mittleren Unternehmen. Sie erhalten konkrete Impulse für eine strukturierte und zukunftsfähige Umsetzung sozialer Nachhaltigkeitsanforderungen.  Die Anforderungen an die Nachhaltigkeitsberichterstattung steigen deutlich — insbesondere im Bereich sozialer Themen wie Arbeitsbedingungen\, Diversität\, Menschenrechte und Wertschöpfungskettenverantwortung. Mit der Corporate Sustainability Reporting Directive (CSRD) und dem freiwilligen VSME-Standard stehen Unternehmen vor neuen Herausforderungen bei der Auswahl\, Messung und Steuerung sozialer Kennzahlen.   In diesem Webinar erhalten Sie einen kompakten Überblick über die relevanten Anforderungen und deren praktische Umsetzung. Wir zeigen\, welche sozialen Kennzahlen im Fokus stehen\, wie diese erhoben und interpretiert werden können und welche Rolle sie für das strategische Nachhaltigkeitsmanagement spielen. Zudem erfahren Sie\, wie Unternehmen soziale Auswirkungen entlang der eigenen Geschäftstätigkeit und der Lieferkette bewerten. Anhand praxisnaher Beispiele lernen Sie\, wie sich Reporting-Pflichten effizient mit internen Managementprozessen verbinden lassen.     Anmeldung unter:esg@accent.at © Text & Fotos: https://accent.at/esgimfokus https://www.freepik.com 								\n				\n				\n		\n				\n				\n																														\n				\n				\n				\n					\n		\n			16. März 2026\n\n	\n\n	  @  \n\n\n16:30\n\n		\n\n\n\n	\n	  -  \n\n17:30\n\n\n\n	\n				\n				\n				\n				\n					\n	\n		\n\n	\n	Zum Kalender hinzufügen	\n		\n	\n\n		\n			\n									\n	Google Kalender\n\n									\n	iCalendar\n\n									\n	Outlook 365\n\n									\n	Outlook Live\n\n							\n		\n\n		\n	\n\n				\n				\n				\n				\n					\n				\n				\n	\n	online
URL:https://www.missionklimaziele.at/event/webinar-esg-soziale-nachhaltigkeit-richtig-berichten-was-kmu-jetzt-wissen-muessen/
LOCATION:online
ATTACH;FMTTYPE=image/png:https://www.missionklimaziele.at/wp-content/uploads/2024/09/webinar-esg.png
END:VEVENT
END:VCALENDAR